BEGIN:VCALENDAR
VERSION:2.0
PRODID:-//Eventin//Event Calendar//EN
CALSCALE:GREGORIAN
METHOD:PUBLISH
BEGIN:VEVENT
UID:50034885ff4b1ea9060b149de951fa42@wesearchevent.com
SUMMARY:Festival des rythmes berbères
DESCRIPTION:/*! elementor - v3.23.0 - 05-08-2024 */\n.elementor-widget-imag
 e{text-align:center}.elementor-widget-image a{display:inline-block}.element
 or-widget-image a img[src$=".svg"]{width:48px}.elementor-widget-image img{v
 ertical-align:middle\;display:inline-block}
LOCATION:Online
DTSTAMP:20260423T130813Z
DTSTART:20240929T190000Z
DTEND:20260423T230000Z
END:VEVENT
END:VCALENDAR
