BEGIN:VCALENDAR
VERSION:2.0
PRODID:-//Eventin//Event Calendar//EN
CALSCALE:GREGORIAN
METHOD:PUBLISH
BEGIN:VEVENT
UID:a852d8b8ac782ea57c23ae42c2ee7d0f@wesearchevent.com
SUMMARY:Hommage à Karim Tizouiar par Ferhat Hamdi et Lounès Guerroudj
DESCRIPTION:/*! elementor - v3.23.0 - 05-08-2024 */\n.elementor-widget-imag
 e{text-align:center}.elementor-widget-image a{display:inline-block}.element
 or-widget-image a img[src$=".svg"]{width:48px}.elementor-widget-image img{v
 ertical-align:middle\;display:inline-block}
LOCATION:Online
DTSTAMP:20260424T101157Z
DTSTART:20241005T000000Z
DTEND:20260425T040000Z
END:VEVENT
END:VCALENDAR
