BEGIN:VCALENDAR
VERSION:2.0
PRODID:-//Eventin//Event Calendar//EN
CALSCALE:GREGORIAN
METHOD:PUBLISH
BEGIN:VEVENT
UID:897401c4196b7ceed7855b47108f4822@wesearchevent.com
SUMMARY:Hommage à Amar Ezzahi à Montréal - Spectacle et conférence
DESCRIPTION:Communiqué de presse Objet : Patrimoine musical et histoire d
 e la chanson populaire algérienne Montréal\, le 7 septembre 2024 - L'Ass
 ociation Culturelle Assaddekia-Québec (ACAQ) et GEHIMAB Algérie ont le pl
 aisir de vous inviter à un événement exceptionnel dédié au patrimoine 
 musical et à l'histoire de la chanson populaire algérienne\, avec un acce
 nt particulier sur le CHAÂBI. Cet événement\, intitulé "Une plume et de
 s cordes pour Ezzahi"\, se déroulera à Montréal du 20 au 22 septembre 20
 24 et s'articulera en deux volets.		\n														\n															\n			N
 otre travail s'améliore grâce à l'excellence du votre		\n										\n			
 								\n															\n											\n										\n														\n							
 								\n										\n											\n															\n											\n										
 \n																										\n														\n															\n												
 		\n															\n																										\n														\n										
 					\n			On avance grâce à votre soutien continuel et à votre travail e
 xceptionnel :		\n							\n														\n							\n														\n							\
 n														\n							\n														\n							\n														\n							\
 n														\n							\n														\n							\n														\n							\
 n														\n							\n														\n							\n														\n								
 																		\n		Le premier volet se traduira par une conférence-déb
 at animée par un éminent représentant de la culture algérienne\, Monsie
 ur Abdelkader Bendamèche\, musicologue\, parolier\, journaliste et confér
 encier. Reconnu pour son engagement envers la préservation du patrimoine m
 usical algérien\, Monsieur Bendamèche partagera des perspectives enrichis
 santes sur l'histoire de la chanson populaire algérienne et présentera so
 n dernier ouvrage intitulé Amar Ezzahi ou l’éclat juvénile de la chans
 on chaâbi.Le deuxième volet consistera en un récital mettant en avant un
  florilège des chansons d'Amar Ezzahi\, avec la participation d'artistes i
 nvités d'Algérie\, de France\, ainsi qu'un artiste de Montréal.Les passi
 onnés de musique chaâbi sont invités à cet événement pour échanger e
 t enrichir leurs connaissances sur l'héritage musical d'Amar Ezzahi\, dans
  une ambiance conviviale et célébratoire.LES RENDEZ-VOUS :Vendredi 20 sep
 tembre 2024\, de 17h à 20hGalerie Yara\, 2900 Boul Rosemont\, Montréal•
  Exposition de photos retraçant le parcours de l'artiste\, réalisée par 
 Salah Ouachek\, scénographe et réalisateur.• Séance de dédicaces du l
 ivre d'Abdelkader Bendamèche.Samedi 21 septembre 2024\, de 17h à 21hPetit
  auditorium du Collège de Maisonneuve\, 3800 Rue Sherbrooke Est\, Montréa
 l• Conférence-débat et récital « Une Plume et des cordes pour Ezzahi 
 ».Nous vous attendons nombreux pour célébrer ensemble la richesse de la 
 musique populaire algérienne. Source : ACAQ
LOCATION:Online
DTSTAMP:20260423T110255Z
DTSTART:20240921T220000Z
DTEND:20260424T040000Z
END:VEVENT
END:VCALENDAR
