BEGIN:VCALENDAR
VERSION:2.0
PRODID:-//Eventin//Event Calendar//EN
CALSCALE:GREGORIAN
METHOD:PUBLISH
BEGIN:VEVENT
UID:e068ea62eb63df3541e34320daa40907@wesearchevent.com
SUMMARY:Orchestre Châabi de Montréal en spectacle
DESCRIPTION:
LOCATION:Online
DTSTAMP:20260423T110317Z
DTSTART:
DTEND:
END:VEVENT
END:VCALENDAR
