BEGIN:VCALENDAR
VERSION:2.0
PRODID:-//Eventin//Event Calendar//EN
CALSCALE:GREGORIAN
METHOD:PUBLISH
BEGIN:VEVENT
UID:16ec517e7539fd0a99d84608fc266b3d@wesearchevent.com
SUMMARY:Massi et Kedym à Montréal - 11 février 2023
DESCRIPTION:/*! elementor - v3.10.2 - 29-01-2023 */\n.elementor-widget-imag
 e{text-align:center}.elementor-widget-image a{display:inline-block}.element
 or-widget-image a img[src$=".svg"]{width:48px}.elementor-widget-image img{v
 ertical-align:middle\;display:inline-block}
LOCATION:Online
DTSTAMP:20260422T110128Z
DTSTART:20230211T200000Z
DTEND:20260422T235500Z
END:VEVENT
END:VCALENDAR
