BEGIN:VCALENDAR
VERSION:2.0
PRODID:-//Eventin//Event Calendar//EN
CALSCALE:GREGORIAN
METHOD:PUBLISH
BEGIN:VEVENT
UID:d52d80b4edca977f2e65c0e47cb5e98d@wesearchevent.com
SUMMARY:Ali Irsane\, 40 ans de chansons - 19 Mars 2023 - Paris
DESCRIPTION:LMED TAQBAYLITTin neɣ win yebɣan ad yaru s tutlayt-nneɣ\, ad
 lis-a igerrez.Tin neɣ win yebɣan ad yali ccan n tutlayt-nneɣ ad immud ad
 lis-a d tarzeft neɣ d araz!Acheter: Canada  **** FranceCabarert Sauvage:A
 dresse : 59 Bd Macdonald\, 75019 Paris\, FranceTéléphone : 01 42 09 0
 3 09
LOCATION:Online
DTSTAMP:20260425T143431Z
DTSTART:20230319T150000Z
DTEND:20260425T143431Z
END:VEVENT
END:VCALENDAR
