BEGIN:VCALENDAR
VERSION:2.0
PRODID:-//Eventin//Event Calendar//EN
CALSCALE:GREGORIAN
METHOD:PUBLISH
BEGIN:VEVENT
UID:1cc61451fe7499b085dc48be20cc0471@wesearchevent.com
SUMMARY:Rachid Koceila\, Ait Bouada\, Tizi-Ouzou
DESCRIPTION:Rachid Koceila le vertueux interprète\nRachid Koceila\, le ver
 tueux interprète\, originaire de Kabylie\, précisément du village mythiq
 ue Tagemount Azouz\,  At Dwal. Après son passage à Montréal le 25 févr
 ier 2023 où il a donné une belle prestation\, il est invité à Ait Bouad
 a (At Ghebri) pour fêter la journée Internationale de la Femme.  Ci-dess
 ous deux extraits vidéos de son passage à Montréal.\nOrganisateur Maquil
 lage 360° Rotatif\n[geot country='Algeria'][/geot]\n[geot country='France'
 ][/geot]\n[geot country='Belgium'][/geot]\n[geot country='Germany'][/geot]\
 n[geot country='Spain'][/geot] [geot country='Canada'][/geot] [geot country
 ='US'][/geot]https://youtu.be/vMisqcUZexI\n\n/*! elementor - v3.11.2 - 22-0
 2-2023 */\n.elementor-widget-image{text-align:center}.elementor-widget-imag
 e a{display:inline-block}.elementor-widget-image a img[src$=".svg"]{width:4
 8px}.elementor-widget-image img{vertical-align:middle\;display:inline-block
 }\n\n\nhttps://youtu.be/cHfLDD49l3I
LOCATION:Online
DTSTAMP:20260423T110255Z
DTSTART:20230310T080000Z
DTEND:20260423T110000Z
END:VEVENT
END:VCALENDAR
