BEGIN:VCALENDAR
VERSION:2.0
PRODID:-//Eventin//Event Calendar//EN
CALSCALE:GREGORIAN
METHOD:PUBLISH
BEGIN:VEVENT
UID:bf9882c9ec0f775d7081d45fdb0e7ac7@wesearchevent.com
SUMMARY:Salon du livre Amazigh en France
DESCRIPTION:LMED TAQBAYLIT\n[geot country='Algeria'][/geot] [geot country='
 France'][/geot] [geot country='Belgium'][/geot] [geot country='Germany'][/g
 eot] [geot country='Spain'][/geot] [geot country='Canada'] [/geot] [geot co
 untry='US'][/geot]\nTanemmirt i gma-nneɣ Ṣabiḥ At Yaḥya i yefkan aku
 d d d ufud-ines i teqbaylit.\nLeqdic-a d win ara d-yesseftin ugar tira ɣef
  n tusnakt d tussniwin tiyaḍ. Ihi ilit - ilimt di tiɛad aken a s-nefk af
 ud i tin d win yettarun.\n\nLivres de Mouloud Mammeri\n\n \nExtrait du salo
 n du livre amazigh à Montréal\nhttps://youtu.be/N8dxnSrbuP8
LOCATION:Online
DTSTAMP:20260422T111053Z
DTSTART:20230408T120000Z
DTEND:20260422T180000Z
END:VEVENT
END:VCALENDAR
