BEGIN:VCALENDAR
VERSION:2.0
PRODID:-//Eventin//Event Calendar//EN
CALSCALE:GREGORIAN
METHOD:PUBLISH
BEGIN:VEVENT
UID:e5dbce722df36035719808368b1c1987@wesearchevent.com
SUMMARY:Dr Hacène Hireche\, Slimane Azem\, conférence
DESCRIPTION:Invité par la FAAN\, dans le cadre du 6e Festival Amazigh de M
 ontréal\, le Dr Hacène Hirèche animera une conférence débat sous le th
 ème : "Slimane Azem: combats\, blessures et résiliences" .Date et lieu: d
 imanche 7 mai au centre Loisirs Communautaires Saint-Michel à 14h00. Il y
  aura une vente dédicace de son livre sur l'artiste.L'entrée est sujette 
 à une contribution de 10$.		\n			Slimane Azem: Blessures et résilience		\
 n		[geot country='Algeria'][/geot] [geot country='France'][/geot] [geot cou
 ntry='Belgium'][/geot] [geot country='Germany'][/geot] [geot country='Spain
 '][/geot] [geot country='Canada'][/geot] [geot country='US'][/geot]https://
 youtu.be/L1bzQ-PVkks		\n																														\n		https://youtu.be/
 AzxKahfYlb8
LOCATION:Online
DTSTAMP:20260424T100453Z
DTSTART:20230507T190000Z
DTEND:20260424T220000Z
END:VEVENT
END:VCALENDAR
