BEGIN:VCALENDAR
VERSION:2.0
PRODID:-//Eventin//Event Calendar//EN
CALSCALE:GREGORIAN
METHOD:PUBLISH
BEGIN:VEVENT
UID:0ed04e7d54e065b34be2c0adaa9f7ba7@wesearchevent.com
SUMMARY:1949-1980: Question amazighe\, Ali Guenoun
DESCRIPTION:La question kabyle dans le nationalisme algérien 1949-1962: Co
 mment la crise de 1949 est devenue la crise «berbériste »\n[geot country
 ='Algeria'][/geot] [geot country='France'][/geot] [geot country='Belgium'][
 /geot] [geot country='Germany'][/geot] [geot country='Spain'][/geot] [geot 
 country='Canada'][/geot] [geot country='US'][/geot]\nCet ouvrage porte nota
 mment sur deux aspects et deux moments de la lutte des nationalistes algér
 iens pour l'indépendance de leur pays. L'un\, longtemps ignoré\, se rappo
 rte à la crise dite "berbériste" de 191\,9\, au sein du Parti du Peuple A
 lgérien (PPA)\, suscitée par la définition même de la nation algérienn
 e. L'autre\, connu mais sous-analysé\, sinon mal compris\, à la montée e
 n puissance de la Wilaya 3 et de son chef\, Belkacem Krim\, au sein du FLN 
 et de l'ALN\, pendant la guerre d'indépendance. L'étude n'oublie pas pour
  autant la période intermédiaire (1950-1954)\, carrément négligée jusq
 u'ici et en conditionne pourtant la préparation\, avec ses conséquences 
 à l'échelle de la nation tout entière. Mais au-delà de cet objet direct
 \, qui se suffit à lui-même\, ce travail apporte une contribution importa
 nte à la compréhension de deux questions plus larges : celle de l'émerge
 nce d'un mouvement identitaire amazigh\, y inclus sa dimension kabyle : cel
 le de la gestion de "l'ethnicité" par le nationalisme radical algérien\, 
 en de ça et au-delà de la guerre d'indépendance. L'auteur met au jour et
  en perspective de multiples faits ignorés\, souvent incompris\, tant des 
 services de renseignement civils et militaires\, que des acteurs en conflit
 \, et des historiens eux-mêmes. Avec une préface d'Omar Cartier et une po
 stface de Mohammed Harbi ce livre ouvre la voie à de nouveaux débats. il 
 constitue une contribution originale à l'histoire politique de l'Algérie\
 , notamment par l'attention portée aux questions régionales dans l'ensemb
 le algérien.\n\n10 juin 2023\, conférence de l'historien Ali Guenoun à P
 aris\, détails dans l'affiche ci-dessous. Soyez nombreuses et nombreux!\n\
 nhttps://youtu.be/fPEmEMsa6Oo\nAu loin si j'y suis - Livre d'Aéziane Kezza
 r\n[geot country='Algeria'][/geot] [geot country='France'][/geot] [geot cou
 ntry='Belgium'][/geot] [geot country='Germany'][/geot] [geot country='Spain
 '][/geot] [geot country='Canada'] [/geot] [geot country='US'][/geot]\nExist
 e-t-il une quête plus excitante\, plus passionnante\, voire plus vertigine
 use que celle de son identité ? La quête identitaire est certes un chemin
  sinueux\, mais plein de rebondissements\, d'imprévus et de surprises. Le 
 coeur de celui qui cherche ses origines oscille entre la joie et la peur de
  ce qu'il va découvrir. C'est ce qui arrive au jeune Éric\, de mère fran
 çaise et de père kabyle\, qui\, après la disparition de la première\, p
 art de Paris\, à la recherche du second\, de l'autre côté de la Méditer
 ranée.
LOCATION:Online
DTSTAMP:20260423T153053Z
DTSTART:20230610T160000Z
DTEND:20260423T200000Z
END:VEVENT
END:VCALENDAR
