BEGIN:VCALENDAR
VERSION:2.0
PRODID:-//Eventin//Event Calendar//EN
CALSCALE:GREGORIAN
METHOD:PUBLISH
BEGIN:VEVENT
UID:ee511aacff2477f5722d7d3a3403b846@wesearchevent.com
SUMMARY:BERBANYA - lancement album et célébration
DESCRIPTION:[geot country='Algeria'][/geot] [geot country='France'][/geot] 
 [geot country='Belgium'][/geot] [geot country='Germany'][/geot] [geot count
 ry='Spain'][/geot] [geot country='Canada'][/geot] [geot country='US'][/geot
 ]Berbanya\, groupe de musique kabyle\, célébrera ses 20 ans de chansons c
 e 17 juin à Montréal. 		\n																														\n		https://yout
 u.be/TSRlclGXqlw
LOCATION:Online
DTSTAMP:20260423T170325Z
DTSTART:20230618T010000Z
DTEND:20260424T043000Z
END:VEVENT
END:VCALENDAR
