BEGIN:VCALENDAR
VERSION:2.0
PRODID:-//Eventin//Event Calendar//EN
CALSCALE:GREGORIAN
METHOD:PUBLISH
BEGIN:VEVENT
UID:6f9929fa7ee989a9db50779fd33b47e7@wesearchevent.com
SUMMARY:Matoub Hamid rend hommage à Matoub
DESCRIPTION:[geot country='Algeria'][/geot] [geot country='France'][/geot] 
 [geot country='Belgium'][/geot] [geot country='Germany'][/geot] [geot count
 ry='Spain'][/geot] [geot country='Canada'][/geot] [geot country='US'][/geot
 ]		\n																														\n		https://youtu.be/2eODcw7LRQohttps://
 youtu.be/uKqwCXROfvs
LOCATION:Online
DTSTAMP:20260422T112622Z
DTSTART:20230618T010000Z
DTEND:20260423T010000Z
END:VEVENT
END:VCALENDAR
