BEGIN:VCALENDAR
VERSION:2.0
PRODID:-//Eventin//Event Calendar//EN
CALSCALE:GREGORIAN
METHOD:PUBLISH
BEGIN:VEVENT
UID:dda1e8c1193714f5987deccc031552c4@wesearchevent.com
SUMMARY:Akli D en tournée au Canada - 2023
DESCRIPTION:SPECTACLE REPORTÉ		\n			ANEF-AS I LAARBI TRANKIL EN AMÉRIQUE 
 DU NORD		\n		Akli D\, de son vrais nom ''Dehiles'' entamera sa tournée en 
 Amérique du Nord ce mois d'octobre à Montréal. Tout un répertoire conç
 u\, construit et partagé tout au long des années. Un style personnel\; ar
 ticulé sur les chants et mélodies de sa famille artistique\, des fêtes d
 u village\, de sa région et de ses nombreuses rencontres et voyages. Il m
 élange le folklore\, la musique nord africaine\, du blues\, du reggae et t
 out ceci embaumé de textes\, en langue kabyle\,  à la fois simples et pr
 ofondément riches et tout ça chanté d'une voix unique en son genre\, dou
 ce avec un fond rock. https://youtu.be/DEQLpEPK6H0Anef-as i Lɛeṛbi tṛ
 ankil\, ay abaṛman\, akka i d us\, si fasil\, tabqbaylit anda teddiḍ\, 
 ... ces titres chantés en chœur\, une vrai thérapie.  On ne se lasse pa
 s d'écouter Akli D. Chaque chanson\, un film se dessine et s'invite seul 
 à nous. Des thèmes parfois osés\, interprétés avec doigté\, art et ma
 nière.Sa rencontre avec l'artiste espagnole de la musique folk -fusion\, M
 anu Chao\, à Paris était prolifique. Manu Chao\, impressionné par le sty
 le et les textes d'Akli D\, n'a pas hésité à lui proposer de travailler 
 ensemble sur  un disque ensemble. ''Ma yela'' est né de ce jumelage uniqu
 e au bonheur de leurs funs! Bon vent l'artiste! Excellents spectacles!		\n	
 																													\n		Akli D se produira à Montréal\, à Québ
 ec ville et Ottawa. Norkane fera la première partie. Norkane qui sortira s
 on nouveau album\, ''Ul d tamurt''\,  ce moi de juillet 2023.Trois dates s
 ont à retenir:  Montréal: 20 octobre 2023\, à partir de 20H au Théâtr
 e Le Château Québec ville: 21 octobre 2023\, à partir de 20H à la Salle
  Dina-Bélanger Ottawa: 22 octobre 2023\, à partir de 18H au Richelieu-Van
 ier Community Center🔥 Billets en ligne MONTRÉAL\, 20 octobre 2023: Tick
 et🔥 Billets en ligne QUÉBEC VILLE\, 21 octobre 2023: Ticket🔥 Billets
  en ligne OTTAWA\, 22 octobre 2023: Ticket🔥 Billets dans nos points de v
 ente à Montréal: 📍 MARCHE DJURDJURA 6492 Rue Beaubien E (H1M 1A9) 📍
  CAFE CARREFOUR 3131 Rue Bélanger (H1Y 1B4) 📍 CAFE MON PETIT VILLAGE 62
 94 Rue Jean-Talon E (H1S 1M8) 📍 CAFE TIKJDA 3880 Rue Bélanger\, Montr
 éal\, QC H1X 1B6📍 SALON DE COIFFURE DJURDJURA: 3597A Rue Jean-Talon E\,
  Montréal\, QC\, Canada\, Quebec
LOCATION:Online
DTSTAMP:20260422T110341Z
DTSTART:20231021T010000Z
DTEND:20260423T045500Z
END:VEVENT
END:VCALENDAR
