BEGIN:VCALENDAR
VERSION:2.0
PRODID:-//Eventin//Event Calendar//EN
CALSCALE:GREGORIAN
METHOD:PUBLISH
BEGIN:VEVENT
UID:2bc67ae9afa4b598ba1bbca1065a1bce@wesearchevent.com
SUMMARY:TAKFARINAS arrive à Akbou\, 2023
DESCRIPTION:QUELQUES SPECTACLES SONT ANNULÉS OU REPPORTÉS À CAUSES DES I
 NCENDIES. AVANT DE SE DÉPLACER\, CONSULTEZ LES PAGES OFFICIELLES DES ARTIS
 TES SINON DES ORGANISATEURSTakfarinas arrive à Bgayet\, cette été\, pré
 cisément à l'Hôtel Atlantis d'Akbou aux bonheur de ses fans. Il va s'y p
 roduire pour 3 dates.la salle polyvalente Atlantis d'une capacité de 1000 
 places assises équipées de toutes les commodités pour accueillir ses cli
 ents dans de meilleurs conditions qui soient. Trois dates à retenir: Akbo
 u: 07 Aout 2023\, à partir de 21H à l'Hôtel Atlantis  Akbou: 08 Aout 20
 23\, à partir de 21H à l'Hôtel Atlantis  Akbou: 15 Aout 2023\, à parti
 r de 21H à l'Hôtel Atlantis  		\n																														\n						
 										\n															\n		SPECTACLE DE TAKFARINAS À AZAZGA le 20 juil
 let 2023
LOCATION:Online
DTSTAMP:20260423T110318Z
DTSTART:20230807T200000Z
DTEND:20260423T225500Z
END:VEVENT
END:VCALENDAR
