BEGIN:VCALENDAR
VERSION:2.0
PRODID:-//Eventin//Event Calendar//EN
CALSCALE:GREGORIAN
METHOD:PUBLISH
BEGIN:VEVENT
UID:f1791285697ba0dd5a9f5810eefcb82b@wesearchevent.com
SUMMARY:BOODER à L'Olympia de Montréal
DESCRIPTION:/*! elementor - v3.15.0 - 20-08-2023 */\n.elementor-widget-imag
 e{text-align:center}.elementor-widget-image a{display:inline-block}.element
 or-widget-image a img[src$=".svg"]{width:48px}.elementor-widget-image img{v
 ertical-align:middle\;display:inline-block}
LOCATION:Online
DTSTAMP:20260424T055007Z
DTSTART:20230916T010000Z
DTEND:20260425T045000Z
END:VEVENT
END:VCALENDAR
