BEGIN:VCALENDAR
VERSION:2.0
PRODID:-//Eventin//Event Calendar//EN
CALSCALE:GREGORIAN
METHOD:PUBLISH
BEGIN:VEVENT
UID:f04c5a684064aa08753cff4f31192e73@wesearchevent.com
SUMMARY:Cheb Khaled\, Roi du Raï \, à Montréal
DESCRIPTION:Cheb Khaled bientôt à Montréal		\n		Cheb Khaled : L'Étoile 
 Incontestée du Rai à la Voix EnsoleilléeDepuis les rues animées d'Oran 
 en Algérie jusqu'aux scènes internationales\, Cheb Khaled a illuminé le 
 monde de la musique avec son talent inimitable\, sa voix envoûtante et son
  sourire charismatique. De ses modestes débuts à son ascension fulgurante
 \, en passant par ses meilleures chansons et ses clips emblématiques\, Che
 b Khaled demeure une icône du raï et une figure inoubliable de la scène 
 musicale.https://youtu.be/lFTFNdoL5DELes débuts modestes d'une légende :N
 é le 29 février 1960 à Oran\, en Algérie\, Khaled Hadj Ibrahim\, mieux 
 connu sous le nom de Cheb Khaled\, a grandi au sein d'une famille de musici
 ens. L'influence musicale était inévitable\, et il a rapidement développ
 é une passion pour le raï\, un genre musical profondément ancré dans la
  culture du pays. Le raï\, avec ses paroles poignantes et ses mélodies en
 voûtantes\, est souvent le reflet des expériences et des émotions de la 
 vie quotidienne.Ses premiers pas dans la musique l'ont vu chanter lors de m
 ariages et de fêtes locales\, créant ainsi une base de fans locale. Son p
 remier album\, enregistré en 1981\, a immédiatement attiré l'attention g
 râce à sa voix puissante et émotionnelle. Cependant\, c'est avec l'album
  "Hada Raykoum" en 1985 que Khaled a gagné en reconnaissance nationale et 
 internationale.		\n																														\n																\n						
 									\n		https://youtu.be/8be8zBJWDJwLe Chemin vers le Succès Mondial 
 :L'année 1988 a marqué un tournant dans la carrière de Cheb Khaled avec 
 la sortie de l'album "Kutché". Cet album allait propulser Khaled vers une 
 renommée internationale sans précédent. Les chansons de "Kutché" sont d
 evenues des hits instantanés\, non seulement en Algérie\, mais également
  dans le monde arabe et au-delà. L'album a mélangé habilement des élém
 ents traditionnels du raï avec des sonorités modernes\, créant ainsi un 
 son unique et accrocheur.Les Meilleures Chansons de Cheb Khaled :Parmi les 
 innombrables chansons mémorables de Cheb Khaled\, certaines se démarquent
  par leur impact et leur capacité à captiver les auditeurs. "Aïcha"\, so
 rtie en 1996\, est sans doute l'une de ses chansons les plus écoutées. Av
 ec sa mélodie entraînante et ses paroles émouvantes\, "Aïcha" est deven
 u un succès planétaire et a solidifié la réputation de Khaled en tant q
 u'artiste de renommée internationale.Une autre chanson qui a marqué les e
 sprits est "Didi"\, également issue de l'album Kutché. "Didi" a contribu
 é à populariser le raï dans le monde entier grâce à sa fusion unique d
 e rythmes orientaux et de sonorités occidentales. La chanson a rapidement 
 conquis les charts internationaux et a été jouée dans des clubs et des r
 adios du monde entier.https://youtu.be/d43hAb8yrI0L'Influence du Raï et la
  Voix Envoûtante de Khaled :Le raï\, en tant que genre musical\, porte en
  lui les émotions et les histoires du peuple. Cheb Khaled a su canaliser c
 ette essence dans sa voix puissante et émotionnelle. Sa capacité à expri
 mer une gamme d'émotions\, de la tristesse à la joie en passant par l'amo
 ur\, a touché les cœurs de millions de fans à travers le monde. Sa voix 
 chaleureuse et vibrante transporte les auditeurs dans un voyage émotionnel
  à chaque chanson.L'Éclat de Son Sourire et Ses Clips Inoubliables :Outre
  sa voix envoûtante\, le charme magnétique de Cheb Khaled s'exprime égal
 ement à travers son sourire éclatant. Sur scène\, son sourire communicat
 if crée une connexion spéciale avec le public\, renforçant ainsi son sta
 tut d'artiste aimé et respecté.Les clips musicaux de Cheb Khaled sont ég
 alement mémorables. Ils ont souvent capturé l'essence de ses chansons à 
 travers des scénarios visuels uniques. Dans le clip de "Aïcha"\, par exem
 ple\, les décors traditionnels renforcent le message romantique de la chan
 son. Les clips de Khaled sont un mélange de créativité visuelle et de na
 rration émotionnelle\, renforçant l'impact de ses chansons.L'Héritage Du
 rable :Bien que les années soient passées depuis les débuts de Cheb Khal
 ed\, son héritage musical continue de briller. Ses chansons sont intempore
 lles\, résistantes à l'épreuve du temps et continuent d'inspirer de nouv
 elles générations d'artistes. Son rôle dans la vulgarisation du raï et 
 sa contribution à la musique de l’Afrique du nord et mondiale reste inco
 ntesté.En conclusionCheb Khaled incarne la quintessence du raï et de la m
 usique populaire algérienne. De ses humbles débuts à sa renommée intern
 ationale\, en passant par sa voix captivante\, son sourire charismatique et
  ses clips emblématiques\, il reste une icône indélébile. Son influence
  perdure\, rappelant à tous que la musique est un langage universel qui pe
 ut transcender les frontières et toucher les cœurs.
LOCATION:Online
DTSTAMP:20260424T055711Z
DTSTART:20231014T010000Z
DTEND:20260425T045500Z
END:VEVENT
END:VCALENDAR
