BEGIN:VCALENDAR
VERSION:2.0
PRODID:-//Eventin//Event Calendar//EN
CALSCALE:GREGORIAN
METHOD:PUBLISH
BEGIN:VEVENT
UID:4bd84151fcfa1fb7a2c77b8d86915fd3@wesearchevent.com
SUMMARY:Zedek au Zénith de Paris - 40 iseggasen
DESCRIPTION:Lire l'article
LOCATION:Online
DTSTAMP:20260423T125449Z
DTSTART:20240518T180000Z
DTEND:20260423T215500Z
END:VEVENT
END:VCALENDAR
