BEGIN:VCALENDAR
VERSION:2.0
PRODID:-//Eventin//Event Calendar//EN
CALSCALE:GREGORIAN
METHOD:PUBLISH
BEGIN:VEVENT
UID:5dfe6c02f3fd3bf405246ed694811770@wesearchevent.com
SUMMARY:Rabah Asma\, spectacle de solidarité\, incendies
DESCRIPTION:/*! elementor - v3.15.0 - 20-08-2023 */\n.elementor-widget-imag
 e{text-align:center}.elementor-widget-image a{display:inline-block}.element
 or-widget-image a img[src$=".svg"]{width:48px}.elementor-widget-image img{v
 ertical-align:middle\;display:inline-block}
LOCATION:Online
DTSTAMP:20260424T041504Z
DTSTART:20230829T200000Z
DTEND:20260424T225500Z
END:VEVENT
END:VCALENDAR
