BEGIN:VCALENDAR
VERSION:2.0
PRODID:-//Eventin//Event Calendar//EN
CALSCALE:GREGORIAN
METHOD:PUBLISH
BEGIN:VEVENT
UID:2b2614906b7010afb275e63ddc5e9383@wesearchevent.com
SUMMARY:Booder au Zenith de Paris
DESCRIPTION:
LOCATION:Online
DTSTAMP:20260424T041832Z
DTSTART:20240112T180000Z
DTEND:20260424T215500Z
END:VEVENT
END:VCALENDAR
