BEGIN:VCALENDAR
VERSION:2.0
PRODID:-//Eventin//Event Calendar//EN
CALSCALE:GREGORIAN
METHOD:PUBLISH
BEGIN:VEVENT
UID:2bc4d0a43f3d1bbe74d4d675ecec7484@wesearchevent.com
SUMMARY:Ali Amrane à Sarcelles
DESCRIPTION:Ali Amrane est un artiste emblématique de la musique kabyle mo
 derne		\n		La musique kabyle moderne a vu émerger de nombreux artistes tal
 entueux au fil des années\, mais parmi eux\, Ali Amrane se distingue parti
 culièrement. Avec son style unique et sa capacité à créer des succès i
 ntemporels\, il a réussi à captiver et à rassembler des fans à travers 
 le monde. Son impact sur la scène musicale kabyle moderne est indéniable\
 , et ses chansons emblématiques telles que "Tavalizt"\, ''A Bu lehmum''\, 
 ''tazla n wussan'' et "A Xali Sliman" ont laissé une marque indélébile.h
 ttps://youtu.be/sm02CNZkwXg		\n																														\n		Avec un r
 épertoire riche en émotions et en messages profonds\, Ali Amrane est parv
 enu à toucher le cœur de nombreuses générations. Ses paroles poétiques
  abordent souvent des thèmes universels tels que l'amour\, l'identité\, l
 a justice sociale et la nostalgie. Cette combinaison de paroles significati
 ves et de mélodies envoûtantes crée une expérience musicale captivante 
 et mémorable.L'une des caractéristiques distinctives du style d'Ali Amran
 e est sa fusion réussie de sonorités traditionnelles et contemporaines. I
 l puise dans les rythmes et les instruments traditionnels kabyles\, tout en
  incorporant des éléments modernes tels que la guitare électrique et la 
 production musicale contemporaine. Cette fusion crée un équilibre parfait
  entre héritage culturel et innovation\, ce qui attire un large éventail 
 d'auditeurs\, des jeunes amateurs de musique pop aux mélomanes plus tradit
 ionnelles.		\n			La chanson ''TABALIZT'' du regrété Hsissen		\n		Ali Amra
 ne a brillamment ravi l'esprit de la chanson intemporelle "Tabalizt" chant
 ée par le regretté Hsissen\, insufflant une nouvelle vie à ce joyau musi
 cal. Cette mélodie émouvante évoque le thème douloureux de l'exil\, cap
 turant les émotions et les défis auxquels sont confrontés ceux qui quitt
 ent leur terre natale à la recherche d'un avenir meilleur.La reprise magis
 trale d'Ali Amrane témoigne de sa maîtrise artistique et de son respect p
 rofond pour l'héritage musical kabyle et pour Hsissen\, l'interprète orig
 inal de la chanson. Il a su capturer l'essence émotionnelle de la chanson 
 originale tout en y insufflant sa propre interprétation unique. Sa voix pr
 ofonde et mélancolique transporte l'auditeur dans un voyage au cœur des s
 entiments universels liés à l'exil\, à la nostalgie et à la recherche d
 'identité.Le succès rémanent de cette reprise reflète la résonance con
 tinue de l'histoire et des émotions véhiculées par la chanson "Tabalizt"
  d'Hsissen. Les auditeurs ont été touchés par la manière dont Ali Amran
 e a su réinterpréter avec habileté et sensibilité cette chanson emblém
 atique\, lui insufflant une nouvelle pertinence tout en préservant son aut
 henticité et en rendant hommage à Hsissen.À travers "Tabalizt"\, Ali Amr
 ane a démontré sa capacité à transcender les générations et à unir l
 es auditeurs autour d'une expérience musicale commune. La chanson rappelle
  que l'exil est un thème intemporel et universel\, faisant écho aux expé
 riences de nombreuses personnes à travers l'histoire et à travers le mond
 e.En redonnant vie à cette chanson et en préservant l'héritage d'Hsissen
 \, Ali Amrane a solidifié son statut en tant qu'artiste engagé et talentu
 eux\, capable de revitaliser le patrimoine musical tout en lui insufflant u
 ne nouvelle perspective. Sa reprise de "Tabalizt" demeure un hommage émouv
 ant à l'original tout en étant une œuvre à part entière\, capable de t
 oucher le cœur et l'âme de quiconque l'écouteAli Amrane a réussi à cr
 éer un langage musical qui transcende les frontières géographiques et cu
 lturelles. Sa musique est écoutée et appréciée non seulement en Kabylie
 \, mais également dans d'autres régions d'Algérie et même à l'étrange
 r. Cette portée mondiale témoigne de l'universalité de sa musique et de 
 la façon dont il a réussi à toucher le cœur de personnes de toutes sens
 ibilités.En conclusion\, Ali Amrane se distingue comme l'un des artistes l
 es plus influents et respectés de la musique kabyle moderne. Son style uni
 que\, sa capacité à créer des succès populaires et sa fusion harmonieus
 e de traditions et d'innovation en font un artiste exceptionnel. "Tavalizt"
 \, ''A Bu lehmum''\, ''tazla n wussan'' et "A Xali Sliman" ne sont que des 
 exemples de ses nombreuses réalisations musicales qui continueront à rés
 onner auprès des générations actuelles et futures.
LOCATION:Online
DTSTAMP:20260424T042046Z
DTSTART:20230915T180000Z
DTEND:20260424T215500Z
END:VEVENT
END:VCALENDAR
