BEGIN:VCALENDAR
VERSION:2.0
PRODID:-//Eventin//Event Calendar//EN
CALSCALE:GREGORIAN
METHOD:PUBLISH
BEGIN:VEVENT
UID:79f8106eb3158f07baac19b68dc9204c@wesearchevent.com
SUMMARY:ACB - Journée portes ouvertes - Ateliers créatifs
DESCRIPTION:/*! elementor - v3.15.0 - 20-08-2023 */.elementor-widget-image{
 text-align:center}.elementor-widget-image a{display:inline-block}.elementor
 -widget-image a img[src$=".svg"]{width:48px}.elementor-widget-image img{ver
 tical-align:middle\;display:inline-block}
LOCATION:Online
DTSTAMP:20260422T110029Z
DTSTART:20230930T120000Z
DTEND:20260422T160000Z
END:VEVENT
END:VCALENDAR
