BEGIN:VCALENDAR
VERSION:2.0
PRODID:-//Eventin//Event Calendar//EN
CALSCALE:GREGORIAN
METHOD:PUBLISH
BEGIN:VEVENT
UID:fe17cff60688e3a50d81c6f904f59358@wesearchevent.com
SUMMARY:Ali Akkache\, récital de poésie\, radio centre ville
DESCRIPTION:/*! elementor - v3.17.0 - 01-11-2023 */.elementor-widget-image{
 text-align:center}.elementor-widget-image a{display:inline-block}.elementor
 -widget-image a img[src$=".svg"]{width:48px}.elementor-widget-image img{ver
 tical-align:middle\;display:inline-block}
LOCATION:Online
DTSTAMP:20260422T112052Z
DTSTART:20231118T210000Z
DTEND:20260423T010000Z
END:VEVENT
END:VCALENDAR
