BEGIN:VCALENDAR
VERSION:2.0
PRODID:-//Eventin//Event Calendar//EN
CALSCALE:GREGORIAN
METHOD:PUBLISH
BEGIN:VEVENT
UID:744b42ddc85c339209277fa26e7da9df@wesearchevent.com
SUMMARY:Nesrine &amp\; Youcef Hessas - Tafsut\, nouvel an
DESCRIPTION:/*! elementor - v3.17.0 - 08-11-2023 */\n.elementor-widget-imag
 e{text-align:center}.elementor-widget-image a{display:inline-block}.element
 or-widget-image a img[src$=".svg"]{width:48px}.elementor-widget-image img{v
 ertical-align:middle\;display:inline-block}
LOCATION:Online
DTSTAMP:20260423T150132Z
DTSTART:20240101T030000Z
DTEND:20260423T190000Z
END:VEVENT
END:VCALENDAR
