BEGIN:VCALENDAR
VERSION:2.0
PRODID:-//Eventin//Event Calendar//EN
CALSCALE:GREGORIAN
METHOD:PUBLISH
BEGIN:VEVENT
UID:3c861c48a56be17360b75fbaa3545f87@wesearchevent.com
SUMMARY:Ali Irsane &amp\; Samy
DESCRIPTION:/*! elementor - v3.17.0 - 08-11-2023 */\n.elementor-widget-imag
 e{text-align:center}.elementor-widget-image a{display:inline-block}.element
 or-widget-image a img[src$=".svg"]{width:48px}.elementor-widget-image img{v
 ertical-align:middle\;display:inline-block}
LOCATION:Online
DTSTAMP:20260424T005754Z
DTSTART:20231125T180000Z
DTEND:20260424T215500Z
END:VEVENT
END:VCALENDAR
