BEGIN:VCALENDAR
VERSION:2.0
PRODID:-//Eventin//Event Calendar//EN
CALSCALE:GREGORIAN
METHOD:PUBLISH
BEGIN:VEVENT
UID:358b51fe7f7ec7d03dfa3171060c5cbe@wesearchevent.com
SUMMARY:Boubekeur et Amar Hamel à Québec ville
DESCRIPTION:
LOCATION:Online
DTSTAMP:20260423T230920Z
DTSTART:20231231T000000Z
DTEND:20260424T045500Z
END:VEVENT
END:VCALENDAR
