BEGIN:VCALENDAR
VERSION:2.0
PRODID:-//Eventin//Event Calendar//EN
CALSCALE:GREGORIAN
METHOD:PUBLISH
BEGIN:VEVENT
UID:09dce30cf11211022a5a2b2927d10502@wesearchevent.com
SUMMARY:Le groupe Tagrawla\, Bélaïd et Idir\, à Montréal
DESCRIPTION:/*! elementor - v3.17.0 - 08-11-2023 */\n.elementor-widget-imag
 e{text-align:center}.elementor-widget-image a{display:inline-block}.element
 or-widget-image a img[src$=".svg"]{width:48px}.elementor-widget-image img{v
 ertical-align:middle\;display:inline-block}
LOCATION:Online
DTSTAMP:20260423T230245Z
DTSTART:20231126T000000Z
DTEND:20260424T045500Z
END:VEVENT
END:VCALENDAR
