BEGIN:VCALENDAR
VERSION:2.0
PRODID:-//Eventin//Event Calendar//EN
CALSCALE:GREGORIAN
METHOD:PUBLISH
BEGIN:VEVENT
UID:f5132addbed0544846f56045b0d4793e@wesearchevent.com
SUMMARY:Yennayer 2974 (2024) à Québec ville - Amar Hamel
DESCRIPTION:/*! elementor - v3.17.0 - 08-11-2023 */\n.elementor-widget-imag
 e{text-align:center}.elementor-widget-image a{display:inline-block}.element
 or-widget-image a img[src$=".svg"]{width:48px}.elementor-widget-image img{v
 ertical-align:middle\;display:inline-block}
LOCATION:Online
DTSTAMP:20260423T131005Z
DTSTART:20240113T220000Z
DTEND:20260424T040000Z
END:VEVENT
END:VCALENDAR
