BEGIN:VCALENDAR
VERSION:2.0
PRODID:-//Eventin//Event Calendar//EN
CALSCALE:GREGORIAN
METHOD:PUBLISH
BEGIN:VEVENT
UID:4e99d1252a823eb7b159bd9a3183a434@wesearchevent.com
SUMMARY:Yennayer 2974 à Stains (93240\, France)
DESCRIPTION:/*! elementor - v3.17.0 - 08-11-2023 */\n.elementor-widget-imag
 e{text-align:center}.elementor-widget-image a{display:inline-block}.element
 or-widget-image a img[src$=".svg"]{width:48px}.elementor-widget-image img{v
 ertical-align:middle\;display:inline-block}
LOCATION:Online
DTSTAMP:20260423T110256Z
DTSTART:20240101T020000Z
DTEND:20260423T220000Z
END:VEVENT
END:VCALENDAR
