BEGIN:VCALENDAR
VERSION:2.0
PRODID:-//Eventin//Event Calendar//EN
CALSCALE:GREGORIAN
METHOD:PUBLISH
BEGIN:VEVENT
UID:ab46ba560e2b5810b4e040ef6f5c9132@wesearchevent.com
SUMMARY:Yennayer 2974 (2024) au Centre Culturel IDIR
DESCRIPTION:/*! elementor - v3.17.0 - 08-11-2023 */\n.elementor-widget-imag
 e{text-align:center}.elementor-widget-image a{display:inline-block}.element
 or-widget-image a img[src$=".svg"]{width:48px}.elementor-widget-image img{v
 ertical-align:middle\;display:inline-block}
LOCATION:Online
DTSTAMP:20260423T130347Z
DTSTART:20240107T200000Z
DTEND:20260424T010000Z
END:VEVENT
END:VCALENDAR
