BEGIN:VCALENDAR
VERSION:2.0
PRODID:-//Eventin//Event Calendar//EN
CALSCALE:GREGORIAN
METHOD:PUBLISH
BEGIN:VEVENT
UID:d37fa76081423e1fc2430835f1a5e7f7@wesearchevent.com
SUMMARY:Yennayer 2974 - Noria à Ottawa - Canada
DESCRIPTION:/*! elementor - v3.18.0 - 06-12-2023 */\n.elementor-widget-imag
 e{text-align:center}.elementor-widget-image a{display:inline-block}.element
 or-widget-image a img[src$=".svg"]{width:48px}.elementor-widget-image img{v
 ertical-align:middle\;display:inline-block}
LOCATION:Online
DTSTAMP:20260423T110219Z
DTSTART:20231213T200000Z
DTEND:20260423T165500Z
END:VEVENT
END:VCALENDAR
