BEGIN:VCALENDAR
VERSION:2.0
PRODID:-//Eventin//Event Calendar//EN
CALSCALE:GREGORIAN
METHOD:PUBLISH
BEGIN:VEVENT
UID:ccf0eea8c4b9ef28aec7e88c585c056e@wesearchevent.com
SUMMARY:Yennayer\, Canada\, École INAS
DESCRIPTION:Aɣerbaz INAS\, une école de la langue kabyle au Canada\, à M
 ontréal \, fêtera la quinzième année de son existence. Combien d'enfan
 ts et d'adultes sont passés par là? Chaque année\, il y a quatre à cinq
  classes. Des enseignantes et enseignants de qualité y enseignent. Ils ont
  tous le diplôme d'enseignement. L'école INAS engage ces enseignantes et
  enseignants. La  devise des différents membres du conseils d'administrat
 ion est de donner importance à cet enseignements\, exactement comme tout e
 nseignement et travail: ça mérite salaire. On ne doit pas accepter des b
 énévoles pour enseigner notre langue. Aselmed n teqbaylit yewwi-d ad ise
 čč aɣrum. Ama da deg uɣerbaz INAS neɣ deg uɣerbaz wayeḍ.Comme chaqu
 e année\, INAS organise un soirée souper - spectacle ''Imnsi n yennayer''
  pour financer ses activités d'enseignement de notre belle langue.
LOCATION:Online
DTSTAMP:20260423T150143Z
DTSTART:20240113T230000Z
DTEND:20260424T045500Z
END:VEVENT
END:VCALENDAR
