BEGIN:VCALENDAR
VERSION:2.0
PRODID:-//Eventin//Event Calendar//EN
CALSCALE:GREGORIAN
METHOD:PUBLISH
BEGIN:VEVENT
UID:2be68b7658e60a4794eae4c0e2750b53@wesearchevent.com
SUMMARY:Mila\, idebbalen et Tafsut
DESCRIPTION:ACM: «Fidèle à son principe\, ACM enchaine les nouveautés.
  Cette fois-ci\, nous aurons encore une fois\, l’honneur d’inviter une
  autre étoile montante de la chanson kabyle. Le samedi 27 janvier 2024 à
  20h\, la chanteuse MILA sera avec nous à Montréal pour assurer sa premi
 ère performance au Canada ! Un spectacle riche qu’elle animera avec la 
 troupe IDHEBBALEN à la salle Le Château. Et avec la participation de la 
 troupe de danse Tafsut\, ACM vous réserve une belle soirée\, et un progra
 mme unique qui mélange la modernité et la tradition. Soyez au rendez-vou
 s»https://youtu.be/Tb7_o1nETrM
LOCATION:Online
DTSTAMP:20260423T210408Z
DTSTART:20240128T010000Z
DTEND:20260424T045500Z
END:VEVENT
END:VCALENDAR
