BEGIN:VCALENDAR
VERSION:2.0
PRODID:-//Eventin//Event Calendar//EN
CALSCALE:GREGORIAN
METHOD:PUBLISH
BEGIN:VEVENT
UID:fc63e577ba64763b59fba03e24cf1a00@wesearchevent.com
SUMMARY:Norkane au Balattou - Nuits d'Afrique à Montréal
DESCRIPTION:Norkane au Balattou ce 04 janvier 2024. Il s'y produira pour la
  deuxième fois. Son premier passage sur cette scène de musique acoustique
  avait marqué bien des esprits. Norkane et toute son équipe vont vous tr
 ansporter dans ce monde féérique d'une musiques riche\, de styles diverse
 s\, raffinée\, apaisante et authentique de chez nous. Ci-dessous les music
 iens\, artistes\, paroliers et techniciens ayant participé à la réalisat
 ion de son dernier chef d'œuvre musicale. Des musiciens de renom internati
 onal y ont participé et marqué en fer rouge dessus  leurs empreintes art
 istiques. Venez vivre un moment de bonheur à écouter cette musique entiè
 rement acoustique dans cet endroit mythique\, le Balattou. 		\n			/*! elem
 entor - v3.18.0 - 20-12-2023 */\n.elementor-widget-image{text-align:center}
 .elementor-widget-image a{display:inline-block}.elementor-widget-image a im
 g[src$=".svg"]{width:48px}.elementor-widget-image img{vertical-align:middle
 \;display:inline-block}																											\n		https://youtu.be/16eA
 ad0u5Zs		\n			/*! elementor-pro - v3.18.0 - 20-12-2023 */\n.elementor-galle
 ry__container{min-height:1px}.elementor-gallery-item{position:relative\;ove
 rflow:hidden\;display:block\;text-decoration:none\;border:solid var(--image
 -border-width) var(--image-border-color)\;border-radius:var(--image-border-
 radius)}.elementor-gallery-item__content\,.elementor-gallery-item__overlay{
 height:100%\;width:100%\;position:absolute\;top:0\;left:0}.elementor-galler
 y-item__overlay{mix-blend-mode:var(--overlay-mix-blend-mode)\;transition-du
 ration:var(--overlay-transition-duration)\;transition-property:mix-blend-mo
 de\,transform\,opacity\,background-color}.elementor-gallery-item__image.e-g
 allery-image{transition-duration:var(--image-transition-duration)\;transiti
 on-property:filter\,transform}.elementor-gallery-item__content{display:flex
 \;flex-direction:column\;justify-content:var(--content-justify-content\,cen
 ter)\;align-items:center\;text-align:var(--content-text-align)\;padding:var
 (--content-padding)}.elementor-gallery-item__content>div{transition-duratio
 n:var(--content-transition-duration)}.elementor-gallery-item__content.eleme
 ntor-gallery--sequenced-animation>div:nth-child(2){transition-delay:calc(va
 r(--content-transition-delay) / 3)}.elementor-gallery-item__content.element
 or-gallery--sequenced-animation>div:nth-child(3){transition-delay:calc(var(
 --content-transition-delay) / 3 * 2)}.elementor-gallery-item__content.eleme
 ntor-gallery--sequenced-animation>div:nth-child(4){transition-delay:calc(va
 r(--content-transition-delay) / 3 * 3)}.elementor-gallery-item__description
 {color:var(--description-text-color\,#fff)\;width:100%}.elementor-gallery-i
 tem__title{color:var(--title-text-color\,#fff)\;font-weight:700\;width:100%
 }.elementor-gallery__titles-container{display:flex\;flex-wrap:wrap\;justify
 -content:var(--titles-container-justify-content\,center)\;margin-bottom:20p
 x}.elementor-gallery__titles-container:not(.e--pointer-framed) .elementor-i
 tem:after\,.elementor-gallery__titles-container:not(.e--pointer-framed) .el
 ementor-item:before{background-color:var(--galleries-pointer-bg-color-hover
 )}.elementor-gallery__titles-container:not(.e--pointer-framed) .elementor-i
 tem.elementor-item-active:after\,.elementor-gallery__titles-container:not(.
 e--pointer-framed) .elementor-item.elementor-item-active:before{background-
 color:var(--galleries-pointer-bg-color-active)}.elementor-gallery__titles-c
 ontainer.e--pointer-framed .elementor-item:before{border-color:var(--galler
 ies-pointer-bg-color-hover)\;border-width:var(--galleries-pointer-border-wi
 dth)}.elementor-gallery__titles-container.e--pointer-framed .elementor-item
 :after{border-color:var(--galleries-pointer-bg-color-hover)}.elementor-gall
 ery__titles-container.e--pointer-framed .elementor-item.elementor-item-acti
 ve:after\,.elementor-gallery__titles-container.e--pointer-framed .elementor
 -item.elementor-item-active:before{border-color:var(--galleries-pointer-bg-
 color-active)}.elementor-gallery__titles-container.e--pointer-framed.e--ani
 mation-draw .elementor-item:before{border-left-width:var(--galleries-pointe
 r-border-width)\;border-bottom-width:var(--galleries-pointer-border-width)\
 ;border-right-width:0\;border-top-width:0}.elementor-gallery__titles-contai
 ner.e--pointer-framed.e--animation-draw .elementor-item:after{border-left-w
 idth:0\;border-bottom-width:0\;border-right-width:var(--galleries-pointer-b
 order-width)\;border-top-width:var(--galleries-pointer-border-width)}.eleme
 ntor-gallery__titles-container.e--pointer-framed.e--animation-corners .elem
 entor-item:before{border-left-width:var(--galleries-pointer-border-width)\;
 border-bottom-width:0\;border-right-width:0\;border-top-width:var(--galleri
 es-pointer-border-width)}.elementor-gallery__titles-container.e--pointer-fr
 amed.e--animation-corners .elementor-item:after{border-left-width:0\;border
 -bottom-width:var(--galleries-pointer-border-width)\;border-right-width:var
 (--galleries-pointer-border-width)\;border-top-width:0}.elementor-gallery__
 titles-container .e--pointer-double-line .elementor-item:after\,.elementor-
 gallery__titles-container .e--pointer-double-line .elementor-item:before\,.
 elementor-gallery__titles-container .e--pointer-overline .elementor-item:be
 fore\,.elementor-gallery__titles-container .e--pointer-underline .elementor
 -item:after{height:var(--galleries-pointer-border-width)}.elementor-gallery
 -title{--space-between:10px\;cursor:pointer\;color:#6d7882\;font-weight:500
 \;position:relative\;padding:7px 14px\;transition:all .3s}.elementor-galler
 y-title--active{color:#495157}.elementor-gallery-title:not(:last-child){mar
 gin-right:var(--space-between)}.elementor-gallery-item__title+.elementor-ga
 llery-item__description{margin-top:var(--description-margin-top)}.e-gallery
 -item.elementor-gallery-item{transition-property:all}.e-gallery-item.elemen
 tor-animated-content .elementor-animated-item--enter-from-bottom\,.e-galler
 y-item.elementor-animated-content .elementor-animated-item--enter-from-left
 \,.e-gallery-item.elementor-animated-content .elementor-animated-item--ente
 r-from-right\,.e-gallery-item.elementor-animated-content .elementor-animate
 d-item--enter-from-top\,.e-gallery-item:focus .elementor-gallery__item-over
 lay-bg\,.e-gallery-item:focus .elementor-gallery__item-overlay-content\,.e-
 gallery-item:focus .elementor-gallery__item-overlay-content__description\,.
 e-gallery-item:focus .elementor-gallery__item-overlay-content__title\,.e-ga
 llery-item:hover .elementor-gallery__item-overlay-bg\,.e-gallery-item:hover
  .elementor-gallery__item-overlay-content\,.e-gallery-item:hover .elementor
 -gallery__item-overlay-content__description\,.e-gallery-item:hover .element
 or-gallery__item-overlay-content__title{opacity:1}a.elementor-item.elemento
 r-gallery-title{color:var(--galleries-title-color-normal)}a.elementor-item.
 elementor-gallery-title.elementor-item-active\,a.elementor-item.elementor-g
 allery-title.highlighted\,a.elementor-item.elementor-gallery-title:focus\,a
 .elementor-item.elementor-gallery-title:hover{color:var(--galleries-title-c
 olor-hover)}a.elementor-item.elementor-gallery-title.elementor-item-active{
 color:var(--gallery-title-color-active)}.e-con-inner>.elementor-widget-gall
 ery\,.e-con>.elementor-widget-gallery{width:var(--container-widget-width)\;
 --flex-grow:var(--container-widget-flex-grow)}
LOCATION:Online
DTSTAMP:20260423T211621Z
DTSTART:20240105T020000Z
DTEND:20260424T040000Z
END:VEVENT
END:VCALENDAR
