BEGIN:VCALENDAR
VERSION:2.0
PRODID:-//Eventin//Event Calendar//EN
CALSCALE:GREGORIAN
METHOD:PUBLISH
BEGIN:VEVENT
UID:41643b20c49ecde06f9d60e003bcbab7@wesearchevent.com
SUMMARY:Rabah Asma à L'Olympia de Montréal
DESCRIPTION:Rabah Asma : Une des légendes vivantes de la chanson kabyle\nN
 é en 1962 à Redjaouna\, dans la commune de Tizi Ouzou en Kabylie (Algéri
 e)\, Rabah Asma est une figure emblématique de la musique kabyle. À l'âg
 e de 18 ans\, il a émigré en France\, où son talent musical a rapidement
  été remarqué. C'est Salah Sadaoui qui\, impressionné par ses capacité
 s\, lui a offert l'opportunité de se produire\, pour une durée de deux mo
 is\, dans son établissement.\nEn 1982\, Rabah Asma a sorti son premier alb
 um\, Xedmas Lxir (Xdem-as lxiṛ)\, ce premier opus a été le point de dé
 part d’une carrière musicale couronnée de succès\, le propulsant sur l
 e devant de la scène kabyle. Il était d'une énergie foudroyante\, on le 
 surnomme le king de la scène.\n\nAscension fulgurante\nOriginaire de la Ka
 bylie\, Rabah Asma a grandi dans un environnement imprégné de la riche tr
 adition musicale de sa région natale. Dès son jeune âge il a été attir
 é par la musique et il a rapidement développé un talent exceptionnel pou
 r le chant et la composition. Son déménagement en France à l’âge de 1
 8 ans a été un tournant dans sa vie\, lui offrant de nouvelles opportunit
 és pour exprimer son art.\nChansons identitaires\, sociétales\, d'amour e
 t de  fraternité\nParmi les chansons les plus mémorables de Rabah Asma\,
  on trouve des succès comme ay iguder et ay aḍu ces chansons\, imprégn
 ées de l’identité kabyle et des valeurs sociétales\, ont captivé les 
 auditeurs et ont contribué à faire de Rabah Asma une figure incontournabl
 e de la musique Kabyle.\nRabah Asma est également connu pour son grand cœ
 ur . il a toujours été présent auprès du peuple lors des moments diffic
 iles. Il a fait plusieurs actions\; Rappelons-nous le grand évènement de 
 solidarité\, eu au stade Ben Allouache de Bejaia\, au profit du village Ai
 t Ousalah dûment touché par les incendies ravageurs de l’été de 2022.
  On n'oublie pas aussi le gala de solidarité à la bourse de travail de Ly
 on\, cette fois-ci  au profit des diabétique en Algérie. Une quantité i
 mportante de médicaments y est envoyée.\nRetour triomphant à Montréal\n
 Le 11 mai prochain\, Rabah Asma fera un retour triomphant à Montréal\, un
 e ville qui lui est chère pour son public passionné et son atmosphère vi
 brante. Cette fois-ci\, il foulera la scène mythique de l'Olympia de Montr
 éal\, une salle de spectacle emblématique qui a accueilli certains des pl
 us grands artistes du monde.\nLe concert promet d'être une expérience ino
 ubliable\, alors que Rabah Asma enchantera le public avec sa voix magistral
 e et ses chansons touchantes. Pour les fans de musique kabyle et pour tous 
 ceux qui apprécient les mélodies riches en identité\, en amour et en val
 eurs humaines\, cet événement\, propulsé par TOITURE EXPERT\, sera un re
 ndez-vous à ne pas manquer.\n\n \nRabah Asma continue de marquer l'histoir
 e de la musique kabyle avec son talent exceptionnel et son engagement enver
 s les valeurs qui lui sont chères. Son retour à Montréal sera sans aucun
  doute un moment fort dans sa carrière\, et une occasion unique pour les f
 ans de le voir briller sur scène une fois de plus.
LOCATION:Online
DTSTAMP:20260423T192420Z
DTSTART:20240512T010000Z
DTEND:20260424T045500Z
END:VEVENT
END:VCALENDAR
