BEGIN:VCALENDAR
VERSION:2.0
PRODID:-//Eventin//Event Calendar//EN
CALSCALE:GREGORIAN
METHOD:PUBLISH
BEGIN:VEVENT
UID:3ea3c4f7d1ebdad9edf655d3fb950b0d@wesearchevent.com
SUMMARY:Tikoubaouine et Norkane à Tizi
DESCRIPTION:La musique authentique du désert\, le blues\; les Touaregs ont
  cette capacité de jouer des tours aux mirages. De loin\, des silhouettes 
 apparaissent et disparaissent\, le sable chaud\, le soleil à terre et des 
 notes de musique retentissent dans le paisible silence de l'immensité. Il
 s font ''full''. Ils sont réclamés de revenir.  Là où ils passent\, ce
  n'est que partie remise. Oui\, il y a de ces musique qui guérissent. C'es
 t juste magnifique et thérapeutique. Une vraie évasion dans l'immensité 
 paisible du désert. Un voyage à prendre.https://youtu.be/pJGOnPebsNY		\n	
 																									\n		Norkane et toute son équipe vont vous transpo
 rter dans ce monde féérique d'une musiques riche\, de styles diverses\, r
 affinée\, apaisante et authentique de chez nous. Ci-dessous les musiciens\
 , artistes\, paroliers et techniciens ayant participé à la réalisation d
 e son dernier chef d'œuvre musicale. Des musiciens de renom international 
 y ont participé et marqué en fer rouge dessus  leurs empreintes artistiq
 ues. https://youtu.be/V-1-uItMc2khttps://youtu.be/Ar3hlIs55_c
LOCATION:Online
DTSTAMP:20260423T192614Z
DTSTART:20240323T203000Z
DTEND:20260423T110000Z
END:VEVENT
END:VCALENDAR
