BEGIN:VCALENDAR
VERSION:2.0
PRODID:-//Eventin//Event Calendar//EN
CALSCALE:GREGORIAN
METHOD:PUBLISH
BEGIN:VEVENT
UID:2964e120d3e5757d6da32d6689425869@wesearchevent.com
SUMMARY:Lani Rabah et Sadia Hamidi
DESCRIPTION:https://youtu.be/mHSVNMnZjj8https://youtu.be/e7qYy9H7zmchttps:/
 /youtu.be/S7jX872Sxng
LOCATION:Online
DTSTAMP:20260423T190326Z
DTSTART:20240321T203000Z
DTEND:20260423T110000Z
END:VEVENT
END:VCALENDAR
