BEGIN:VCALENDAR
VERSION:2.0
PRODID:-//Eventin//Event Calendar//EN
CALSCALE:GREGORIAN
METHOD:PUBLISH
BEGIN:VEVENT
UID:249dad56d7cfb3772c8df1d6e1124b4c@wesearchevent.com
SUMMARY:Ali Amrane  à Montréal - 2024 - El Hasnaoui
DESCRIPTION:Ali Amrane : Le Chanteur Kabyle à l'Olympia de Montréal\nAli 
 Amrane est une figure emblématique de la musique kabyle\, reconnu pour son
  style unique et sa présence scénique captivante. Après avoir fait un sp
 ectacle inoubliable l'année dernière\, il revient à Montréal pour un co
 ncert exceptionnel à la salle mythique de L'Olympia le 1er juin 2024. Orga
 nisé par ME2S\, cet événement promet une soirée mémorable pour les fan
 s de l'artiste. Son dernier album\, consacré aux chansons d'El Hasnaoui re
 visitées\, témoigne de son attachement à ses racines et de sa volonté d
 e faire vivre le patrimoine musical kabyle d'une manière nouvelle et perso
 nnelle.\nhttps://youtu.be/sm02CNZkwXg\nUne voix\, un Style\, une Fidélité
 \nAli Amrane est réputé pour sa voix envoûtante et son style musical sin
 gulier\, qui fusionne les traditions kabyles avec des influences contempora
 ines. Depuis ses débuts\, il a su fidéliser son public grâce à des comp
 ositions poignantes et des mélodies envoûtantes\, ''Refdeɣ tabalizt''. S
 on retour à Montréal suscite donc une grande attente parmi ses nombreux a
 dmirateurs\, impatients de le retrouver sur scène.\n\nLe Retour Triomphal 
 à Montréal\nAli Amrane n'est pas un inconnu à Montréal. L'année derni
 ère\, en 2023\, il a déjà enchanté ses admirateurs  avec un spectacle 
 remarquable qui a reçu un accueil enthousiaste. Organisé par ME2S\, ce sp
 ectacle a marqué les esprits et renforcé les liens entre l'artiste et son
  public canadien. Son retour à L'Olympia s'annonce donc comme un événeme
 nt à ne pas manquer pour tous ceux qui ont été séduits par sa musique l
 ors de sa précédente visite.\nUn nouvel album dédié à El Hasnaoui\nPou
 r ce retour sur le devant de la scène\, Ali Amrane propose un nouvel album
  dédié aux chansons d'El Hasnaoui\, légende de la musique kabyle. En rev
 isitant ces classiques\, il offre une interprétation personnelle\, imprég
 née de sa sensibilité artistique unique. Ce projet reflète son profond r
 espect pour ses prédécesseurs tout en insufflant une nouvelle vie à ces 
 morceaux intemporels. Les fans de musique kabyle pourront ainsi redécouvri
 r ces classiques à travers le prisme de l'artiste.\nUne soirée inoubliabl
 e à L'Olympia\nLe 1er juin 2024\, L'Olympia de Montréal vibrera au son en
 voûtant d'Ali Amrane et de ses musiciens talentueux. Ce spectacle promet d
 'être une expérience musicale inoubliable\, où se mêleront émotion\, t
 radition et modernité. Organisé par ME2S\, cet événement est l'occasion
  pour les fans de célébrer la richesse de la musique kabyle et de partage
 r un moment privilégié avec l'un de ses plus grands représentants.\nConc
 lusion\nAli Amrane\, chanteur kabyle au style bien à lui\, fait son grand 
 retour à Montréal pour un concert exceptionnel à L'Olympia\, organisé p
 ar ME2S. Son dernier album\, dédié aux chansons d'El Hasnaoui revisitées
 \, promet une soirée mémorable pour les amateurs de musique kabyle. Aprè
 s avoir enchanté le public montréalais l'année dernière\, il revient su
 r scène avec la promesse d'offrir une nouvelle performance magistrale. Cet
  événement est l'occasion de célébrer la musique kabyle et le talent d'
 un artiste hors du commun.
LOCATION:Online
DTSTAMP:20260423T165634Z
DTSTART:20240602T010000Z
DTEND:20260424T045500Z
END:VEVENT
END:VCALENDAR
