BEGIN:VCALENDAR
VERSION:2.0
PRODID:-//Eventin//Event Calendar//EN
CALSCALE:GREGORIAN
METHOD:PUBLISH
BEGIN:VEVENT
UID:c675cbed2b79b1c597098d5e2404cb65@wesearchevent.com
SUMMARY:Les Kabyles - Fête du Québec
DESCRIPTION:/*! elementor - v3.20.0 - 26-03-2024 */\n.elementor-widget-imag
 e{text-align:center}.elementor-widget-image a{display:inline-block}.element
 or-widget-image a img[src$=".svg"]{width:48px}.elementor-widget-image img{v
 ertical-align:middle\;display:inline-block}
LOCATION:Online
DTSTAMP:20260425T104447Z
DTSTART:20240624T190000Z
DTEND:20260426T010000Z
END:VEVENT
END:VCALENDAR
