BEGIN:VCALENDAR
VERSION:2.0
PRODID:-//Eventin//Event Calendar//EN
CALSCALE:GREGORIAN
METHOD:PUBLISH
BEGIN:VEVENT
UID:285494d2ad852bcfaa897640cedb442d@wesearchevent.com
SUMMARY:Hacene Ahres &amp\; Naima Ramdani à Montréal
DESCRIPTION:
LOCATION:Online
DTSTAMP:20260425T103923Z
DTSTART:20240616T010000Z
DTEND:20260426T045500Z
END:VEVENT
END:VCALENDAR
