BEGIN:VCALENDAR
VERSION:2.0
PRODID:-//Eventin//Event Calendar//EN
CALSCALE:GREGORIAN
METHOD:PUBLISH
BEGIN:VEVENT
UID:d497847eed5a79bfbbcc19a9e43126df@wesearchevent.com
SUMMARY:Hacène Ahres et Naima Ramdani à Québec city
DESCRIPTION:
LOCATION:Online
DTSTAMP:20260425T102915Z
DTSTART:20240608T010000Z
DTEND:20260426T040000Z
END:VEVENT
END:VCALENDAR
