BEGIN:VCALENDAR
VERSION:2.0
PRODID:-//Eventin//Event Calendar//EN
CALSCALE:GREGORIAN
METHOD:PUBLISH
BEGIN:VEVENT
UID:79e1189b1fe042f1b2285154b8e5747c@wesearchevent.com
SUMMARY:Menad Harkat à Laval\, Québec\, Canada
DESCRIPTION:Organisation: «Nous avons le plaisir de vous inviter à une so
 irée exceptionnelle avec Menad Harkat\, ancien membre de la troupe Debza e
 t maintenant en carrière solo\, pour un concert inoubliable. Menad\, chant
 eur engagé\, vous propose un spectacle sous le signe de l'amour et de la r
 évolution.		\n																										\n		Avec un répertoire riche et d
 iversifié\, Menad nous entraîne dans un voyage musical mêlant musique no
 rd-africaine Kabyle\, Chaabi\, Chaoui\, country\, Celtic et reggae. Ses cha
 nsons résonnent d’un profond engagement pour la justice sociale\, la dé
 mocratie\, l’égalité des droits\, l’émancipation des femmes\, et l
 ’amour.**Rejoignez-nous pour une soirée où la musique se fait porte-par
 ole des causes qui nous tiennent à cœur.** Venez vibrer au rythme de Mena
 d Harkat et de ses amis musiciens et laissez-vous emporter par des mélodie
 s qui prônent l'indignation face aux inégalités\, l'espoir d'un monde me
 illeur\, et la beauté de l'amour.Ne manquez pas cet événement unique !**
 Réservez vos places dès maintenant et venez nombreux pour célébrer la m
 usique\, l'amour\, et l'engagement»		\n														\n															\n		
 	/*! elementor - v3.23.0 - 05-08-2024 */\n.elementor-widget-divider{--divid
 er-border-style:none\;--divider-border-width:1px\;--divider-color:#0c0d0e\;
 --divider-icon-size:20px\;--divider-element-spacing:10px\;--divider-pattern
 -height:24px\;--divider-pattern-size:20px\;--divider-pattern-url:none\;--di
 vider-pattern-repeat:repeat-x}.elementor-widget-divider .elementor-divider{
 display:flex}.elementor-widget-divider .elementor-divider__text{font-size:1
 5px\;line-height:1\;max-width:95%}.elementor-widget-divider .elementor-divi
 der__element{margin:0 var(--divider-element-spacing)\;flex-shrink:0}.elemen
 tor-widget-divider .elementor-icon{font-size:var(--divider-icon-size)}.elem
 entor-widget-divider .elementor-divider-separator{display:flex\;margin:0\;d
 irection:ltr}.elementor-widget-divider--view-line_icon .elementor-divider-s
 eparator\,.elementor-widget-divider--view-line_text .elementor-divider-sepa
 rator{align-items:center}.elementor-widget-divider--view-line_icon .element
 or-divider-separator:after\,.elementor-widget-divider--view-line_icon .elem
 entor-divider-separator:before\,.elementor-widget-divider--view-line_text .
 elementor-divider-separator:after\,.elementor-widget-divider--view-line_tex
 t .elementor-divider-separator:before{display:block\;content:""\;border-blo
 ck-end:0\;flex-grow:1\;border-block-start:var(--divider-border-width) var(-
 -divider-border-style) var(--divider-color)}.elementor-widget-divider--elem
 ent-align-left .elementor-divider .elementor-divider-separator>.elementor-d
 ivider__svg:first-of-type{flex-grow:0\;flex-shrink:100}.elementor-widget-di
 vider--element-align-left .elementor-divider-separator:before{content:none}
 .elementor-widget-divider--element-align-left .elementor-divider__element{m
 argin-left:0}.elementor-widget-divider--element-align-right .elementor-divi
 der .elementor-divider-separator>.elementor-divider__svg:last-of-type{flex-
 grow:0\;flex-shrink:100}.elementor-widget-divider--element-align-right .ele
 mentor-divider-separator:after{content:none}.elementor-widget-divider--elem
 ent-align-right .elementor-divider__element{margin-right:0}.elementor-widge
 t-divider--element-align-start .elementor-divider .elementor-divider-separa
 tor>.elementor-divider__svg:first-of-type{flex-grow:0\;flex-shrink:100}.ele
 mentor-widget-divider--element-align-start .elementor-divider-separator:bef
 ore{content:none}.elementor-widget-divider--element-align-start .elementor-
 divider__element{margin-inline-start:0}.elementor-widget-divider--element-a
 lign-end .elementor-divider .elementor-divider-separator>.elementor-divider
 __svg:last-of-type{flex-grow:0\;flex-shrink:100}.elementor-widget-divider--
 element-align-end .elementor-divider-separator:after{content:none}.elemento
 r-widget-divider--element-align-end .elementor-divider__element{margin-inli
 ne-end:0}.elementor-widget-divider:not(.elementor-widget-divider--view-line
 _text):not(.elementor-widget-divider--view-line_icon) .elementor-divider-se
 parator{border-block-start:var(--divider-border-width) var(--divider-border
 -style) var(--divider-color)}.elementor-widget-divider--separator-type-patt
 ern{--divider-border-style:none}.elementor-widget-divider--separator-type-p
 attern.elementor-widget-divider--view-line .elementor-divider-separator\,.e
 lementor-widget-divider--separator-type-pattern:not(.elementor-widget-divid
 er--view-line) .elementor-divider-separator:after\,.elementor-widget-divide
 r--separator-type-pattern:not(.elementor-widget-divider--view-line) .elemen
 tor-divider-separator:before\,.elementor-widget-divider--separator-type-pat
 tern:not([class*=elementor-widget-divider--view]) .elementor-divider-separa
 tor{width:100%\;min-height:var(--divider-pattern-height)\;-webkit-mask-size
 :var(--divider-pattern-size) 100%\;mask-size:var(--divider-pattern-size) 10
 0%\;-webkit-mask-repeat:var(--divider-pattern-repeat)\;mask-repeat:var(--di
 vider-pattern-repeat)\;background-color:var(--divider-color)\;-webkit-mask-
 image:var(--divider-pattern-url)\;mask-image:var(--divider-pattern-url)}.el
 ementor-widget-divider--no-spacing{--divider-pattern-size:auto}.elementor-w
 idget-divider--bg-round{--divider-pattern-repeat:round}.rtl .elementor-widg
 et-divider .elementor-divider__text{direction:rtl}.e-con-inner>.elementor-w
 idget-divider\,.e-con>.elementor-widget-divider{width:var(--container-widge
 t-width\,100%)\;--flex-grow:var(--container-widget-flex-grow)}		\n			/*! el
 ementor - v3.23.0 - 05-08-2024 */\n.elementor-heading-title{padding:0\;marg
 in:0\;line-height:1}.elementor-widget-heading .elementor-heading-title[clas
 s*=elementor-size-]>a{color:inherit\;font-size:inherit\;line-height:inherit
 }.elementor-widget-heading .elementor-heading-title.elementor-size-small{fo
 nt-size:15px}.elementor-widget-heading .elementor-heading-title.elementor-s
 ize-medium{font-size:19px}.elementor-widget-heading .elementor-heading-titl
 e.elementor-size-large{font-size:29px}.elementor-widget-heading .elementor-
 heading-title.elementor-size-xl{font-size:39px}.elementor-widget-heading .e
 lementor-heading-title.elementor-size-xxl{font-size:59px}Notre travail s'am
 éliore grâce à l'excellence du votre		\n										\n											\n							
 								\n											\n										\n														\n															\n							
 			\n											\n															\n											\n										\n															
 											\n														\n															\n														\n													
 		\n																										\n														\n															\n			On avan
 ce grâce à votre soutien continuel et à votre travail exceptionnel :		\n
 			/*! elementor-pro - v3.23.0 - 05-08-2024 */\n.elementor-gallery__contain
 er{min-height:1px}.elementor-gallery-item{position:relative\;overflow:hidde
 n\;display:block\;text-decoration:none\;border:solid var(--image-border-wid
 th) var(--image-border-color)\;border-radius:var(--image-border-radius)}.el
 ementor-gallery-item__content\,.elementor-gallery-item__overlay{height:100%
 \;width:100%\;position:absolute\;top:0\;left:0}.elementor-gallery-item__ove
 rlay{mix-blend-mode:var(--overlay-mix-blend-mode)\;transition-duration:var(
 --overlay-transition-duration)\;transition-property:mix-blend-mode\,transfo
 rm\,opacity\,background-color}.elementor-gallery-item__image.e-gallery-imag
 e{transition-duration:var(--image-transition-duration)\;transition-property
 :filter\,transform}.elementor-gallery-item__content{display:flex\;flex-dire
 ction:column\;justify-content:var(--content-justify-content\,center)\;align
 -items:center\;text-align:var(--content-text-align)\;padding:var(--content-
 padding)}.elementor-gallery-item__content>div{transition-duration:var(--con
 tent-transition-duration)}.elementor-gallery-item__content.elementor-galler
 y--sequenced-animation>div:nth-child(2){transition-delay:calc(var(--content
 -transition-delay) / 3)}.elementor-gallery-item__content.elementor-gallery-
 -sequenced-animation>div:nth-child(3){transition-delay:calc(var(--content-t
 ransition-delay) / 3 * 2)}.elementor-gallery-item__content.elementor-galler
 y--sequenced-animation>div:nth-child(4){transition-delay:calc(var(--content
 -transition-delay) / 3 * 3)}.elementor-gallery-item__description{color:var(
 --description-text-color\,#fff)\;width:100%}.elementor-gallery-item__title{
 color:var(--title-text-color\,#fff)\;font-weight:700\;width:100%}.elementor
 -gallery__titles-container{display:flex\;flex-wrap:wrap\;justify-content:va
 r(--titles-container-justify-content\,center)\;margin-bottom:20px}.elemento
 r-gallery__titles-container:not(.e--pointer-framed) .elementor-item:after\,
 .elementor-gallery__titles-container:not(.e--pointer-framed) .elementor-ite
 m:before{background-color:var(--galleries-pointer-bg-color-hover)}.elemento
 r-gallery__titles-container:not(.e--pointer-framed) .elementor-item.element
 or-item-active:after\,.elementor-gallery__titles-container:not(.e--pointer-
 framed) .elementor-item.elementor-item-active:before{background-color:var(-
 -galleries-pointer-bg-color-active)}.elementor-gallery__titles-container.e-
 -pointer-framed .elementor-item:before{border-color:var(--galleries-pointer
 -bg-color-hover)\;border-width:var(--galleries-pointer-border-width)}.eleme
 ntor-gallery__titles-container.e--pointer-framed .elementor-item:after{bord
 er-color:var(--galleries-pointer-bg-color-hover)}.elementor-gallery__titles
 -container.e--pointer-framed .elementor-item.elementor-item-active:after\,.
 elementor-gallery__titles-container.e--pointer-framed .elementor-item.eleme
 ntor-item-active:before{border-color:var(--galleries-pointer-bg-color-activ
 e)}.elementor-gallery__titles-container.e--pointer-framed.e--animation-draw
  .elementor-item:before{border-left-width:var(--galleries-pointer-border-wi
 dth)\;border-bottom-width:var(--galleries-pointer-border-width)\;border-rig
 ht-width:0\;border-top-width:0}.elementor-gallery__titles-container.e--poin
 ter-framed.e--animation-draw .elementor-item:after{border-left-width:0\;bor
 der-bottom-width:0\;border-right-width:var(--galleries-pointer-border-width
 )\;border-top-width:var(--galleries-pointer-border-width)}.elementor-galler
 y__titles-container.e--pointer-framed.e--animation-corners .elementor-item:
 before{border-left-width:var(--galleries-pointer-border-width)\;border-bott
 om-width:0\;border-right-width:0\;border-top-width:var(--galleries-pointer-
 border-width)}.elementor-gallery__titles-container.e--pointer-framed.e--ani
 mation-corners .elementor-item:after{border-left-width:0\;border-bottom-wid
 th:var(--galleries-pointer-border-width)\;border-right-width:var(--gallerie
 s-pointer-border-width)\;border-top-width:0}.elementor-gallery__titles-cont
 ainer .e--pointer-double-line .elementor-item:after\,.elementor-gallery__ti
 tles-container .e--pointer-double-line .elementor-item:before\,.elementor-g
 allery__titles-container .e--pointer-overline .elementor-item:before\,.elem
 entor-gallery__titles-container .e--pointer-underline .elementor-item:after
 {height:var(--galleries-pointer-border-width)}.elementor-gallery-title{--sp
 ace-between:10px\;cursor:pointer\;color:#6d7882\;font-weight:500\;position:
 relative\;padding:7px 14px\;transition:all .3s}.elementor-gallery-title--ac
 tive{color:#495157}.elementor-gallery-title:not(:last-child){margin-inline-
 end:var(--space-between)}.elementor-gallery-item__title+.elementor-gallery-
 item__description{margin-top:var(--description-margin-top)}.e-gallery-item.
 elementor-gallery-item{transition-property:all}.e-gallery-item.elementor-an
 imated-content .elementor-animated-item--enter-from-bottom\,.e-gallery-item
 .elementor-animated-content .elementor-animated-item--enter-from-left\,.e-g
 allery-item.elementor-animated-content .elementor-animated-item--enter-from
 -right\,.e-gallery-item.elementor-animated-content .elementor-animated-item
 --enter-from-top\,.e-gallery-item:focus .elementor-gallery__item-overlay-bg
 \,.e-gallery-item:focus .elementor-gallery__item-overlay-content\,.e-galler
 y-item:focus .elementor-gallery__item-overlay-content__description\,.e-gall
 ery-item:focus .elementor-gallery__item-overlay-content__title\,.e-gallery-
 item:hover .elementor-gallery__item-overlay-bg\,.e-gallery-item:hover .elem
 entor-gallery__item-overlay-content\,.e-gallery-item:hover .elementor-galle
 ry__item-overlay-content__description\,.e-gallery-item:hover .elementor-gal
 lery__item-overlay-content__title{opacity:1}a.elementor-item.elementor-gall
 ery-title{color:var(--galleries-title-color-normal)}a.elementor-item.elemen
 tor-gallery-title.elementor-item-active\,a.elementor-item.elementor-gallery
 -title.highlighted\,a.elementor-item.elementor-gallery-title:focus\,a.eleme
 ntor-item.elementor-gallery-title:hover{color:var(--galleries-title-color-h
 over)}a.elementor-item.elementor-gallery-title.elementor-item-active{color:
 var(--gallery-title-color-active)}.e-con-inner>.elementor-widget-gallery\,.
 e-con>.elementor-widget-gallery{width:var(--container-widget-width)\;--flex
 -grow:var(--container-widget-flex-grow)}
LOCATION:Online
DTSTAMP:20260425T103240Z
DTSTART:20240929T010000Z
DTEND:20260426T043000Z
END:VEVENT
END:VCALENDAR
