BEGIN:VCALENDAR
VERSION:2.0
PRODID:-//Eventin//Event Calendar//EN
CALSCALE:GREGORIAN
METHOD:PUBLISH
BEGIN:VEVENT
UID:b304fb42c04593d5b5e4f391a2a0a7e2@wesearchevent.com
SUMMARY:AYRAD\, Orientalys 2024
DESCRIPTION:
LOCATION:Online
DTSTAMP:20260422T112610Z
DTSTART:20240812T003000Z
DTEND:20260423T020000Z
END:VEVENT
END:VCALENDAR
